BEGIN:VCALENDAR
VERSION:2.0
PRODID:-//217.160.0.161//NONSGML kigkonsult.se iCalcreator 2.20//
CALSCALE:GREGORIAN
METHOD:PUBLISH
X-WR-TIMEZONE:UTC
BEGIN:VEVENT
UID:event364@Your Joomla! Site
DTSTAMP:20260422T161037Z
CATEGORIES:Vereinsaktionen
DESCRIPTION:Bogenplatz herrichten\nKategorie: Vereinsaktionen\nICS-Link: ht
 tps://nbav.de/index.php?option=com_jem&view=event&id=364:bogenplatz-herric
 hten\n
DTSTART:20260321T090000Z
DTEND:20260321T150000Z
LOCATION:Bogenplatz NBAV\,Graf-von-Düren-Straße\,74196 Neuenstadt am Kocher
SUMMARY:Bogenplatz herrichten
URL:https://nbav.de/index.php?option=com_jem&view=event&id=364:bogenplatz-h
 errichten
END:VEVENT
END:VCALENDAR